BEGIN:VCALENDAR
VERSION:2.0
PRODID:-//wp-events-plugin.com//7.2.3.1//EN
BEGIN:VEVENT
UID:350@heimatverein-saerbeck.de
DTSTART;TZID=Europe/Berlin:20250705T143000
DTEND;TZID=Europe/Berlin:20250705T180000
DTSTAMP:20250603T104834Z
URL:https://www.heimatverein-saerbeck.de/events/entdecken-geniessen-offene
 -entdeckungstour-fuer-alle-im-juli/
SUMMARY:Entdecken & Genießen: Offene Entdeckungstour im Juli
DESCRIPTION:An besonderen Terminen bieten wir Einzelpersonen oder Paaren im
  Rahmen einer offenen Gruppe die Möglichkeit einer  Brennerei-Besichtigun
 g zum Entdecken und Genießen.
ATTACH;FMTTYPE=image/jpeg:https://www.heimatverein-saerbeck.de/wp-content/
 uploads/2024/12/Saerbeck-Kornbrennerei-Museum-30.jpg_compressed.jpeg
CATEGORIES:kostenpflichtige Events
LOCATION:Kornbrennerei-Museum\, Grevener Strasse 8\, Saerbeck\, NRW\, 48369
 \, Deutschland
X-APPLE-STRUCTURED-LOCATION;VALUE=URI;X-ADDRESS=Grevener Strasse 8\, Saerbe
 ck\, NRW\, 48369\, Deutschland;X-APPLE-RADIUS=100;X-TITLE=Kornbrennerei-Mu
 seum:geo:0,0
END:VEVENT
BEGIN:VTIMEZONE
TZID:Europe/Berlin
X-LIC-LOCATION:Europe/Berlin
BEGIN:DAYLIGHT
DTSTART:20250330T030000
TZOFFSETFROM:+0100
TZOFFSETTO:+0200
TZNAME:CEST
END:DAYLIGHT
END:VTIMEZONE
END:VCALENDAR