BEGIN:VCALENDAR
VERSION:2.0
PRODID:-//wp-events-plugin.com//7.2.3.1//EN
BEGIN:VEVENT
UID:278@heimatverein-saerbeck.de
DTSTART;VALUE=DATE:20251130
DTEND;VALUE=DATE:20251201
DTSTAMP:20251020T160127Z
URL:https://www.heimatverein-saerbeck.de/events/generalversammlung-2/
SUMMARY:Besinnlicher Jahresausklang“: Adventlicher Abend mit Generalversa
 mmlung
DESCRIPTION:[button link="https://www.heimatverein-saerbeck.de/verein/jahre
 shauptversammlung-2025/#anmeldungen" type="big" newwindow="yes"] Zur Anmel
 dung [/button]\n\nBesinnlicher Jahresausklang“: Adventlicher Abend mit G
 eneralversammlung am 30.11.2025 von 18 - 21.00 Uhr in der Bürgerscheune\n
 \nLiebe Heimatfreunde\,\nzu unserer Jahreshauptversammlung am Sonntag\, de
 n 30.11.2025 laden wir recht herzlich in die Bürgerscheune Saerbeck ein.\
 n\nDie Veranstaltung findet im gewohnten Rahmen statt. Wir beginnen um 18.
 00 Uhr mit einem gemeinsamen Abendessen. Es gibt Grünkohl mit Salzkartoff
 eln\, Bratwürstchen\, geräucherter Mettwurst und Kassler Braten. Der Kos
 tenbeitrag beträgt 15\,00 € je Person. Für die Planung benötigen wir 
 eine verbindliche Anmeldung der am Essen teilnehmenden Personen bis zum 23
 .11.2025 auf dem beigefügten Abschnitt. Bitte wie in den vergangenen Jahr
 en auch diejenigen Personen anmelden\, die um 18.00 Uhr kommen\, aber nich
 t am Essen teilnehmen möchten.\n\nDer anschließende formale Teil der Gen
 eralversammlung beginnt um 19.00 Uhr und wird vom Vereinsvorsitzenden nach
  dem Essen eröffnet. Wer nur an der Generalversammlung teilnehmen möchte
 \, kann dies ab 19.00 Uhr tun\, auch ohne Anmeldung.\n[button link="https:
 //www.heimatverein-saerbeck.de/verein/jahreshauptversammlung-2025/#anmeldu
 ngen" type="big" newwindow="yes"] Zur Anmeldung [/button]
ATTACH;FMTTYPE=image/jpeg:https://www.heimatverein-saerbeck.de/wp-content/
 uploads/2023/10/GV-2019-4a.jpg
CATEGORIES:Termine für Mitglieder
LOCATION:Bürgerscheune\,  Ferrieres-Straße 12\, Saerbeck\, 48369\, Deutsc
 hland
X-APPLE-STRUCTURED-LOCATION;VALUE=URI;X-ADDRESS= Ferrieres-Straße 12\, Sae
 rbeck\, 48369\, Deutschland;X-APPLE-RADIUS=100;X-TITLE=Bürgerscheune:geo:
 0,0
END:VEVENT
END:VCALENDAR